BEGIN:VCALENDAR
VERSION:2.0
PRODID:-//OCHS Old Mill Museum - ECPv6.15.20//NONSGML v1.0//EN
CALSCALE:GREGORIAN
METHOD:PUBLISH
X-ORIGINAL-URL:https://ochsoldmill.org
X-WR-CALDESC:Events for OCHS Old Mill Museum
REFRESH-INTERVAL;VALUE=DURATION:PT1H
X-Robots-Tag:noindex
X-PUBLISHED-TTL:PT1H
BEGIN:VTIMEZONE
TZID:America/New_York
BEGIN:DAYLIGHT
TZOFFSETFROM:-0500
TZOFFSETTO:-0400
TZNAME:EDT
DTSTART:20240310T070000
END:DAYLIGHT
BEGIN:STANDARD
TZOFFSETFROM:-0400
TZOFFSETTO:-0500
TZNAME:EST
DTSTART:20241103T060000
END:STANDARD
BEGIN:DAYLIGHT
TZOFFSETFROM:-0500
TZOFFSETTO:-0400
TZNAME:EDT
DTSTART:20250309T070000
END:DAYLIGHT
BEGIN:STANDARD
TZOFFSETFROM:-0400
TZOFFSETTO:-0500
TZNAME:EST
DTSTART:20251102T060000
END:STANDARD
BEGIN:DAYLIGHT
TZOFFSETFROM:-0500
TZOFFSETTO:-0400
TZNAME:EDT
DTSTART:20260308T070000
END:DAYLIGHT
BEGIN:STANDARD
TZOFFSETFROM:-0400
TZOFFSETTO:-0500
TZNAME:EST
DTSTART:20261101T060000
END:STANDARD
END:VTIMEZONE
BEGIN:VTIMEZONE
TZID:UTC
BEGIN:STANDARD
TZOFFSETFROM:+0000
TZOFFSETTO:+0000
TZNAME:UTC
DTSTART:20220101T000000
END:STANDARD
END:VTIMEZONE
BEGIN:VTIMEZONE
TZID:America/Detroit
BEGIN:DAYLIGHT
TZOFFSETFROM:-0500
TZOFFSETTO:-0400
TZNAME:EDT
DTSTART:20230312T070000
END:DAYLIGHT
BEGIN:STANDARD
TZOFFSETFROM:-0400
TZOFFSETTO:-0500
TZNAME:EST
DTSTART:20231105T060000
END:STANDARD
BEGIN:DAYLIGHT
TZOFFSETFROM:-0500
TZOFFSETTO:-0400
TZNAME:EDT
DTSTART:20240310T070000
END:DAYLIGHT
BEGIN:STANDARD
TZOFFSETFROM:-0400
TZOFFSETTO:-0500
TZNAME:EST
DTSTART:20241103T060000
END:STANDARD
BEGIN:DAYLIGHT
TZOFFSETFROM:-0500
TZOFFSETTO:-0400
TZNAME:EDT
DTSTART:20250309T070000
END:DAYLIGHT
BEGIN:STANDARD
TZOFFSETFROM:-0400
TZOFFSETTO:-0500
TZNAME:EST
DTSTART:20251102T060000
END:STANDARD
END:VTIMEZONE
BEGIN:VEVENT
DTSTART;TZID=America/New_York:20251206T130000
DTEND;TZID=America/New_York:20251206T140000
DTSTAMP:20260422T194834
CREATED:20250326T191146Z
LAST-MODIFIED:20250326T191146Z
UID:2176-1765026000-1765029600@ochsoldmill.org
SUMMARY:Christmas in the Village Part II (TBD)
DESCRIPTION:
URL:https://ochsoldmill.org/event/christmas-in-the-village-part-ii-tbd-2/
LOCATION:Old Mill Museum\, 366 Mill St.\, Ortonville\, MI\, 48462\, United States
CATEGORIES:Community Event
ORGANIZER;CN="Ortonville Community Historical Society":MAILTO:ochs.oldmill@gmail.com
END:VEVENT
BEGIN:VEVENT
DTSTART;TZID=America/New_York:20251205T190000
DTEND;TZID=America/New_York:20251205T210000
DTSTAMP:20260422T194834
CREATED:20250326T191145Z
LAST-MODIFIED:20250326T191145Z
UID:2175-1764961200-1764968400@ochsoldmill.org
SUMMARY:Christmas in the Village Parade (TBD)
DESCRIPTION:
URL:https://ochsoldmill.org/event/christmas-in-the-village-parade-tbd-2/
LOCATION:Old Mill Museum\, 366 Mill St.\, Ortonville\, MI\, 48462\, United States
CATEGORIES:Community Event
ORGANIZER;CN="Ortonville Community Historical Society":MAILTO:ochs.oldmill@gmail.com
END:VEVENT
BEGIN:VEVENT
DTSTART;TZID=America/New_York:20251031T183000
DTEND;TZID=America/New_York:20251031T203000
DTSTAMP:20260422T194834
CREATED:20250326T191003Z
LAST-MODIFIED:20250326T191003Z
UID:2166-1761935400-1761942600@ochsoldmill.org
SUMMARY:Halloween
DESCRIPTION:
URL:https://ochsoldmill.org/event/halloween-2/
LOCATION:Old Mill Museum\, 366 Mill St.\, Ortonville\, MI\, 48462\, United States
CATEGORIES:Community Event
ORGANIZER;CN="Ortonville Community Historical Society":MAILTO:ochs.oldmill@gmail.com
END:VEVENT
BEGIN:VEVENT
DTSTART;TZID=America/New_York:20251011T170000
DTEND;TZID=America/New_York:20251011T210000
DTSTAMP:20260422T194834
CREATED:20250326T184648Z
LAST-MODIFIED:20250902T010246Z
UID:2162-1760202000-1760216400@ochsoldmill.org
SUMMARY:Witches' Night
DESCRIPTION:
URL:https://ochsoldmill.org/event/witches-night-date-needs-verification-2/
LOCATION:Old Mill Museum\, 366 Mill St.\, Ortonville\, MI\, 48462\, United States
CATEGORIES:Community Event
ORGANIZER;CN="Ortonville Community Historical Society":MAILTO:ochs.oldmill@gmail.com
END:VEVENT
BEGIN:VEVENT
DTSTART;VALUE=DATE:20250913
DTEND;VALUE=DATE:20250914
DTSTAMP:20260422T194834
CREATED:20250326T184446Z
LAST-MODIFIED:20250902T010304Z
UID:2156-1757721600-1757807999@ochsoldmill.org
SUMMARY:SeptemberFest
DESCRIPTION:
URL:https://ochsoldmill.org/event/septemberfest-date-needs-verification-2/
LOCATION:Old Mill Museum\, 366 Mill St.\, Ortonville\, MI\, 48462\, United States
CATEGORIES:Community Event
ORGANIZER;CN="Ortonville Community Historical Society":MAILTO:ochs.oldmill@gmail.com
END:VEVENT
BEGIN:VEVENT
DTSTART;TZID=America/New_York:20250705T100000
DTEND;TZID=America/New_York:20250705T140000
DTSTAMP:20260422T194834
CREATED:20250326T183841Z
LAST-MODIFIED:20250326T183841Z
UID:2139-1751709600-1751724000@ochsoldmill.org
SUMMARY:Museum Open - Farmer's Market Theme = Miracle Box Packing
DESCRIPTION:
URL:https://ochsoldmill.org/event/museum-open-farmers-market-theme-miracle-box-packing-2/
LOCATION:Old Mill Museum\, 366 Mill St.\, Ortonville\, MI\, 48462\, United States
CATEGORIES:Community Event
ORGANIZER;CN="Ortonville Community Historical Society":MAILTO:ochs.oldmill@gmail.com
END:VEVENT
BEGIN:VEVENT
DTSTART;VALUE=DATE:20250517
DTEND;VALUE=DATE:20250518
DTSTAMP:20260422T194834
CREATED:20250326T183426Z
LAST-MODIFIED:20250326T183426Z
UID:2126-1747440000-1747526399@ochsoldmill.org
SUMMARY:Friends of Amos Spring Garden Market
DESCRIPTION:
URL:https://ochsoldmill.org/event/friends-of-amos-spring-garden-market-2/
LOCATION:Old Mill Museum\, 366 Mill St.\, Ortonville\, MI\, 48462\, United States
CATEGORIES:Community Event
ORGANIZER;CN="Ortonville Community Historical Society":MAILTO:ochs.oldmill@gmail.com
END:VEVENT
BEGIN:VEVENT
DTSTART;TZID=America/New_York:20250222T100000
DTEND;TZID=America/New_York:20250222T140000
DTSTAMP:20260422T194834
CREATED:20250326T182959Z
LAST-MODIFIED:20250326T182959Z
UID:2106-1740218400-1740232800@ochsoldmill.org
SUMMARY:Winter Market
DESCRIPTION:
URL:https://ochsoldmill.org/event/winter-market-2/
LOCATION:MI
CATEGORIES:Community Event
ORGANIZER;CN="Ortonville Community Historical Society":MAILTO:ochs.oldmill@gmail.com
END:VEVENT
BEGIN:VEVENT
DTSTART;TZID=UTC:20241207T130000
DTEND;TZID=UTC:20241207T160000
DTSTAMP:20260422T194834
CREATED:20240328T055851Z
LAST-MODIFIED:20240328T055910Z
UID:1338-1733576400-1733587200@ochsoldmill.org
SUMMARY:Christmas in the Village
DESCRIPTION:
URL:https://ochsoldmill.org/event/christmas-in-the-village-2/
LOCATION:Downtown Ortonville
CATEGORIES:Community Event
END:VEVENT
BEGIN:VEVENT
DTSTART;TZID=America/Detroit:20241207T110000
DTEND;TZID=America/Detroit:20241207T120000
DTSTAMP:20260422T194834
CREATED:20241202T142644Z
LAST-MODIFIED:20241202T142644Z
UID:1830-1733569200-1733572800@ochsoldmill.org
SUMMARY:Kids Christmas Cookie Decorating in the Mann School 
DESCRIPTION:Join us for a festive and fun-filled afternoon of cookie decorating at Mann School! Kids of all ages are invited to unleash their creativity as they decorate holiday-themed cookies with colorful icing\, sprinkles\, and other sweet toppings. This joyful event is perfect for getting into the Christmas spirit and creating delicious masterpieces to take home or enjoy on the spot. All supplies will be provided. Bring your holiday cheer and imagination! \nNo registration is needed!
URL:https://ochsoldmill.org/event/kids-christmas-cookie-decorating-in-the-mann-school/
LOCATION:Mann School House\, 366 Mill St.\, Ortonville\, MI\, 48462\, United States
CATEGORIES:Community Event,OCHS Event
ATTACH;FMTTYPE=image/png:https://ochsoldmill.org/wp-content/uploads/2024/12/Cookie-Decorating.png
ORGANIZER;CN="Ortonville Community Historical Society":MAILTO:ochs.oldmill@gmail.com
END:VEVENT
BEGIN:VEVENT
DTSTART;TZID=America/Detroit:20241207T100000
DTEND;TZID=America/Detroit:20241207T140000
DTSTAMP:20260422T194834
CREATED:20241202T143657Z
LAST-MODIFIED:20241202T143903Z
UID:1833-1733565600-1733580000@ochsoldmill.org
SUMMARY:Bake Sale
DESCRIPTION:Satisfy your sweet tooth and support a great cause at our Annual Christmas in the Village Bake Sale! Enjoy a delicious selection of homemade treats\, from cookies to fudge\, crafted with care by our community. All proceeds benefit the Ortonville Community Historical Society. \n📅 Date: Dec. 7\n⏰ Time: 10 AM – 2 PM\n📍 Location: Old Mill Museum \nDon’t miss this tasty tradition!
URL:https://ochsoldmill.org/event/bake-sale/
LOCATION:Old Mill Museum\, 366 Mill St.\, Ortonville\, MI\, 48462\, United States
CATEGORIES:Community Event,OCHS Event
ATTACH;FMTTYPE=image/png:https://ochsoldmill.org/wp-content/uploads/2024/12/Bake-Sale.png
ORGANIZER;CN="Ortonville Community Historical Society":MAILTO:ochs.oldmill@gmail.com
END:VEVENT
BEGIN:VEVENT
DTSTART;TZID=America/Detroit:20241012T150000
DTEND;TZID=America/Detroit:20241012T210000
DTSTAMP:20260422T194834
CREATED:20241002T230024Z
LAST-MODIFIED:20241002T230025Z
UID:1707-1728745200-1728766800@ochsoldmill.org
SUMMARY:Witches Night Out - Hat and Cackle Contest
DESCRIPTION:Gather your girlfriends and dress up for this unique annual event. Wear your best witch costume and decorate your hat! It’s an evening (3 – 9 p.m.) filled with good food\, music\, and fun. It’s time to buy your hat and start decorating. The Old Mill hosts cackling and best-decorated hat contests. It’s a hoot!! \nRegistration for the Hat and Cackle Contest is 3:00 – 4:45 PM at the Old Mill Museum. \nContest begins at 5:00 PM in front of the Old Mill Museum. \nGuidelines: \n\nYou do not have to sign up for both the hat and cackle contests.\nYou must register to participate in the contest.\nYou may only choose one category in which to place your hat.\nIf you are not in front of the Old Mill Museum for the contest at 5 PM\, you forfeit your chance to participate.\n\nHat Categories: \n\nWicked – Spooky\, Creepy\, Bad Witch\, Scary\nOver the Top – Outrageous\, Excessive\, Exaggerated\nFairest in the Land – Fancy\, Beautiful\, Elegant\, Good Witch
URL:https://ochsoldmill.org/event/witches-night-out-hat-and-cackle-contest/
LOCATION:Old Mill Museum\, 366 Mill St.\, Ortonville\, MI\, 48462\, United States
CATEGORIES:Community Event,OCHS Event
ATTACH;FMTTYPE=image/png:https://ochsoldmill.org/wp-content/uploads/2024/10/2024-WNO-Website-Photo.png
END:VEVENT
BEGIN:VEVENT
DTSTART;TZID=America/Detroit:20240914T140000
DTEND;TZID=America/Detroit:20240914T150000
DTSTAMP:20260422T194834
CREATED:20240830T020437Z
LAST-MODIFIED:20240830T020438Z
UID:1660-1726322400-1726326000@ochsoldmill.org
SUMMARY:Kids Pie Eating Contest
DESCRIPTION:Who can eat a small pie the fastest? \nAges 4-13 \n1st – 3rd Place Prizes
URL:https://ochsoldmill.org/event/kids-pie-eating-contest/
LOCATION:Old Mill Museum\, 366 Mill St.\, Ortonville\, MI\, 48462\, United States
CATEGORIES:Community Event,OCHS Event
ATTACH;FMTTYPE=image/png:https://ochsoldmill.org/wp-content/uploads/2024/08/Kids-Pie-Eating-Contest.png
ORGANIZER;CN="Ortonville Community Historical Society":MAILTO:ochs.oldmill@gmail.com
END:VEVENT
BEGIN:VEVENT
DTSTART;TZID=America/Detroit:20240914T100000
DTEND;TZID=America/Detroit:20240914T133000
DTSTAMP:20260422T194834
CREATED:20240830T020112Z
LAST-MODIFIED:20240830T020922Z
UID:1657-1726308000-1726320600@ochsoldmill.org
SUMMARY:Apple Pie Baking Contest
DESCRIPTION:Bakers of all ages and skill levels may deliver homemade pies\, which must contain apples. Pie plates will be returned after the contest. \n  \nDrop Pies off at Old Mill Museum between 10 am – 12:00 PM \nJudging begins at 1:00 PM \nPrizes for Appearance\, Taste\, and uniqueness
URL:https://ochsoldmill.org/event/apple-pie-baking-contest/
LOCATION:Old Mill Museum\, 366 Mill St.\, Ortonville\, MI\, 48462\, United States
CATEGORIES:Community Event,OCHS Event
ATTACH;FMTTYPE=image/png:https://ochsoldmill.org/wp-content/uploads/2024/08/Pie-Baking-Contest-Flyer.png
ORGANIZER;CN="Ortonville Community Historical Society":MAILTO:ochs.oldmill@gmail.com
END:VEVENT
BEGIN:VEVENT
DTSTART;TZID=UTC:20240527T093000
DTEND;TZID=UTC:20240527T140000
DTSTAMP:20260422T194834
CREATED:20240113T231314Z
LAST-MODIFIED:20240314T220141Z
UID:1255-1716802200-1716818400@ochsoldmill.org
SUMMARY:Civil War Cemetery Walk and Decoration Day
DESCRIPTION:—–Memorial Day 2024—–\nAt the Ortonville Cemetery and Old Mill\nCivil War reenactors will honor the 49 Civil War Veterans buried at the Ortonville Cemetery\, and demonstrate at the Old Mill Museum. \nSee their tombstones!\nHear their history!\nFull Schedule: \n\n9:30am – 10:00am – Memorial Day Parade starts at the Old Town Hall (486 Mill Street\, Ortonville) and ends at the Ortonville Cemetery (175 N Ortonville Road\, Ortonville)\n10:00am – 10:30am – at the War Memorial in the Ortonville Cemetery – hear the history of Memorial Day\, hear the band\, remember the veterans of all wars who made the ultimate sacrifice.\n10:30am – 11:30am Cemetery Walk – Civil war reenactors will be posted at the gravesites of Civil War Veterans.   Walk from site to site\, and each historian will share that soldier’s story and how they served in the Civil War – from the First Battle of Bull Run\, Antietam\, Gettysburg\, Chickamauga\, Andersonville Prison\, through Appomattox.   Victorian ladies will be placing flowers on the graves of all Civil War soldiers in a re-enactment of the first Decoration Day (which is what Memorial Day was originally named).\n11:45am – 12:15pm – Civil War units will demonstrate at the Old Mill Museum Campus (366 Mill Street\, Ortonville)\, complete with firing demonstrations.\n11:45am – 2:00pm – Old Mill Museum Campus is open for visitors.   Visit all three floors of our museum\, including our extensive military uniform display.\n\nFor more information\, or to volunteer to participate as a re-enactor\, send a text to Alan Allgaier at 248-495-8107\, or email alan.allgaier@gmail.com \nThis event is possible thanks to help from these organizations: \n\nOrtonville Community Historical Society – https://ochsoldmill.org/\nVFW Post 582 – Ortonville – https://www.facebook.com/p/Vfw-Post-582-Ortonville-Mi-100064793315789/\nOrtonville Cemetery Association – https://www.ortonvillecemetery.com/\nOrtonville Downtown Development Authority – https://www.ortonvilledda.org/\nOakland County Parks – https://www.oakgov.com/community/oakland-county-parks\n\n 
URL:https://ochsoldmill.org/event/civil-war-cemetery-walk/
LOCATION:Ortonville Cemetery\, 175 N Ortonville Road\, Ortonville\, MI\, 48462\, United States
CATEGORIES:Community Event
ORGANIZER;CN="Ortonville Community Historical Society":MAILTO:ochs.oldmill@gmail.com
END:VEVENT
BEGIN:VEVENT
DTSTART;TZID=UTC:20240318T063000
DTEND;TZID=UTC:20240318T170000
DTSTAMP:20260422T194834
CREATED:20240318T203241Z
LAST-MODIFIED:20240318T203241Z
UID:1314-1710743400-1710781200@ochsoldmill.org
SUMMARY:M15 Garage Sale - Vintage Market
DESCRIPTION:Outdoor Vintage Market in conjunction with the M15 Garage Sale\, held on the historic campus of the Old Mill Museum in Ortonville. \nVendors – 10’x10′ spaces are only $10.  This is mainly a vintage-theme market\, not a generic garage sale… the bulk of items sold should fit within this theme\, including: \n\nAntiques\, historical items\, vintage items\nVintage clothing\nHistorical Re-enacting uniforms and equipment\nHomemade crafts – crochet\, wood\, soap\, birdhouses\, flowers\nFarm Produce\nTraditional home-produced food – bread\, cookies\, honey\, rootbeer\, etc.\n\n 
URL:https://ochsoldmill.org/event/m15-garage-sale-vintage-market/
LOCATION:Old Mill Museum\, 366 Mill St.\, Ortonville\, MI\, 48462\, United States
CATEGORIES:Community Event
END:VEVENT
BEGIN:VEVENT
DTSTART;TZID=UTC:20231202T130000
DTEND;TZID=UTC:20231202T160000
DTSTAMP:20260422T194834
CREATED:20231019T201542Z
LAST-MODIFIED:20231129T081241Z
UID:551-1701522000-1701532800@ochsoldmill.org
SUMMARY:Christmas in the Village
DESCRIPTION:
URL:https://ochsoldmill.org/event/christmas-in-the-village/
LOCATION:Downtown Ortonville
CATEGORIES:Community Event
ATTACH;FMTTYPE=image/png:https://ochsoldmill.org/wp-content/uploads/2023/10/Holiday-Bake.png
END:VEVENT
BEGIN:VEVENT
DTSTART;TZID=UTC:20230916T151500
DTEND;TZID=UTC:20230916T160000
DTSTAMP:20260422T194834
CREATED:20230912T063853Z
LAST-MODIFIED:20230912T064042Z
UID:510-1694877300-1694880000@ochsoldmill.org
SUMMARY:Husband Calling Contest
DESCRIPTION:Listen to the laughter and cheering as partners compete to show off their vocal prowess in this light-hearted husband calling contest.
URL:https://ochsoldmill.org/event/husband-calling-contest/
LOCATION:Old Mill Museum\, 366 Mill St.\, Ortonville\, MI\, 48462\, United States
CATEGORIES:Community Event,OCHS Event
ORGANIZER;CN="Ortonville Community Historical Society":MAILTO:ochs.oldmill@gmail.com
END:VEVENT
BEGIN:VEVENT
DTSTART;TZID=UTC:20230916T150000
DTEND;TZID=UTC:20230916T160000
DTSTAMP:20260422T194834
CREATED:20230912T063853Z
LAST-MODIFIED:20230912T064105Z
UID:511-1694876400-1694880000@ochsoldmill.org
SUMMARY:Rug Weaving Demonstration
DESCRIPTION:Witness the mesmerizing craft of rug loom weaving\, where colorful threads interlace to create intricate patterns and cozy textiles.
URL:https://ochsoldmill.org/event/rug-weaving-demonstration-2/
LOCATION:Old Mill Museum\, 366 Mill St.\, Ortonville\, MI\, 48462\, United States
CATEGORIES:Community Event,OCHS Event
ORGANIZER;CN="Ortonville Community Historical Society":MAILTO:ochs.oldmill@gmail.com
END:VEVENT
BEGIN:VEVENT
DTSTART;TZID=UTC:20230916T150000
DTEND;TZID=UTC:20230916T151500
DTSTAMP:20260422T194834
CREATED:20230912T063852Z
LAST-MODIFIED:20230912T064132Z
UID:509-1694876400-1694877300@ochsoldmill.org
SUMMARY:Amos Orton look-alike beard contest on the Mill front porch
DESCRIPTION:Join the whisker-wielding fun as participants compete for the title of the most convincing Amos Orton doppelgänger in this beard-tastic contest.
URL:https://ochsoldmill.org/event/amos-orton-look-alike-beard-contest-on-the-mill-front-porch/
LOCATION:Old Mill Museum\, 366 Mill St.\, Ortonville\, MI\, 48462\, United States
CATEGORIES:Community Event,OCHS Event
ORGANIZER;CN="Ortonville Community Historical Society":MAILTO:ochs.oldmill@gmail.com
END:VEVENT
BEGIN:VEVENT
DTSTART;TZID=UTC:20230916T140000
DTEND;TZID=UTC:20230916T150000
DTSTAMP:20260422T194834
CREATED:20230912T063852Z
LAST-MODIFIED:20230912T064229Z
UID:508-1694872800-1694876400@ochsoldmill.org
SUMMARY:Kids Cupcake Eating Contest
DESCRIPTION:Watch the giggles and frosting fly as young contestants go icing to icing in a thrilling kids’ cupcake eating contest.
URL:https://ochsoldmill.org/event/kids-cupcake-eating-contest/
LOCATION:Old Mill Museum\, 366 Mill St.\, Ortonville\, MI\, 48462\, United States
CATEGORIES:Community Event,OCHS Event
ORGANIZER;CN="Ortonville Community Historical Society":MAILTO:ochs.oldmill@gmail.com
END:VEVENT
BEGIN:VEVENT
DTSTART;TZID=UTC:20230916T130000
DTEND;TZID=UTC:20230916T140000
DTSTAMP:20260422T194834
CREATED:20230912T063852Z
LAST-MODIFIED:20230912T064248Z
UID:507-1694869200-1694872800@ochsoldmill.org
SUMMARY:Apple Pie Baking Contest Judging - on the Mill front porch
DESCRIPTION:Get ready for a mouthwatering showdown as bakers vie for the title of apple pie champion in this deliciously sweet competition.
URL:https://ochsoldmill.org/event/apple-pie-baking-contest-judging-on-the-mill-front-porch/
LOCATION:Old Mill Museum\, 366 Mill St.\, Ortonville\, MI\, 48462\, United States
CATEGORIES:Community Event,OCHS Event
ORGANIZER;CN="Ortonville Community Historical Society":MAILTO:ochs.oldmill@gmail.com
END:VEVENT
BEGIN:VEVENT
DTSTART;TZID=UTC:20230916T123000
DTEND;TZID=UTC:20230916T130000
DTSTAMP:20260422T194834
CREATED:20230912T063849Z
LAST-MODIFIED:20230912T064303Z
UID:506-1694867400-1694869200@ochsoldmill.org
SUMMARY:Time Capsule closing and dedication - on the Mill front porch
DESCRIPTION:With heartfelt anticipation\, we seal the time capsule\, preserving our memories and dreams for future generations to uncover.
URL:https://ochsoldmill.org/event/time-capsule-closing-and-dedication-on-the-mill-front-porch/
LOCATION:Old Mill Museum\, 366 Mill St.\, Ortonville\, MI\, 48462\, United States
CATEGORIES:Community Event,OCHS Event
ORGANIZER;CN="Ortonville Community Historical Society":MAILTO:ochs.oldmill@gmail.com
END:VEVENT
BEGIN:VEVENT
DTSTART;TZID=UTC:20230916T110000
DTEND;TZID=UTC:20230916T120000
DTSTAMP:20260422T194834
CREATED:20230912T063849Z
LAST-MODIFIED:20230912T064319Z
UID:505-1694862000-1694865600@ochsoldmill.org
SUMMARY:Rug Weaving Demonstration
DESCRIPTION:Witness the mesmerizing craft of rug loom weaving\, where colorful threads interlace to create intricate patterns and cozy textiles.
URL:https://ochsoldmill.org/event/rug-weaving-demonstration/
LOCATION:Old Mill Museum\, 366 Mill St.\, Ortonville\, MI\, 48462\, United States
CATEGORIES:Community Event,OCHS Event
ORGANIZER;CN="Ortonville Community Historical Society":MAILTO:ochs.oldmill@gmail.com
END:VEVENT
BEGIN:VEVENT
DTSTART;TZID=UTC:20230916T110000
DTEND;TZID=UTC:20230916T120000
DTSTAMP:20260422T194834
CREATED:20230912T063848Z
LAST-MODIFIED:20230912T064334Z
UID:504-1694862000-1694865600@ochsoldmill.org
SUMMARY:Butter Churning -  upstairs in the Mill
DESCRIPTION:Experience the timeless art of butter-churning as skilled hands transform cream into golden\, creamy goodness before your eyes.
URL:https://ochsoldmill.org/event/butter-churning-upstairs-in-the-mill/
LOCATION:Old Mill Museum\, 366 Mill St.\, Ortonville\, MI\, 48462\, United States
CATEGORIES:Community Event,OCHS Event
ORGANIZER;CN="Ortonville Community Historical Society":MAILTO:ochs.oldmill@gmail.com
END:VEVENT
BEGIN:VEVENT
DTSTART;TZID=UTC:20230916T100000
DTEND;TZID=UTC:20230916T180000
DTSTAMP:20260422T194834
CREATED:20230912T063848Z
LAST-MODIFIED:20230912T064351Z
UID:503-1694858400-1694887200@ochsoldmill.org
SUMMARY:Blacksmith "Hammer In" - Several blacksmiths
DESCRIPTION:
URL:https://ochsoldmill.org/event/blacksmith-hammer-in-several-blacksmiths/
LOCATION:Old Mill Blacksmith Shop\, 366 Mill St.\, Ortonville\, MI\, 48462\, United States
CATEGORIES:Community Event,OCHS Event
ORGANIZER;CN="Ortonville Community Historical Society":MAILTO:ochs.oldmill@gmail.com
END:VEVENT
BEGIN:VEVENT
DTSTART;TZID=UTC:20230916T100000
DTEND;TZID=UTC:20230916T160000
DTSTAMP:20260422T194834
CREATED:20230912T063848Z
LAST-MODIFIED:20230912T064510Z
UID:502-1694858400-1694880000@ochsoldmill.org
SUMMARY:Tours
DESCRIPTION:Take a tour of the Old Mill Muesum and Mann School. Volunteers will tell storys of the artifacts donated to the museum.
URL:https://ochsoldmill.org/event/tours/
LOCATION:Old Mill Museum\, 366 Mill St.\, Ortonville\, MI\, 48462\, United States
CATEGORIES:Community Event,OCHS Event
ORGANIZER;CN="Ortonville Community Historical Society":MAILTO:ochs.oldmill@gmail.com
END:VEVENT
BEGIN:VEVENT
DTSTART;TZID=UTC:20230812T120000
DTEND;TZID=UTC:20230812T130000
DTSTAMP:20260422T194834
CREATED:20230808T035616Z
LAST-MODIFIED:20230808T035617Z
UID:485-1691841600-1691845200@ochsoldmill.org
SUMMARY:Square Dance Practice
DESCRIPTION:
URL:https://ochsoldmill.org/event/square-dance-practice/
LOCATION:Lynn’s Dance Studio\, 18 South St\, Ortonville\, MI\, 48462
CATEGORIES:Community Event
ATTACH;FMTTYPE=image/png:https://ochsoldmill.org/wp-content/uploads/2023/08/Sq-Dance-Practice.png
END:VEVENT
BEGIN:VEVENT
DTSTART;TZID=UTC:20230812T100000
DTEND;TZID=UTC:20230812T140000
DTSTAMP:20260422T194834
CREATED:20230808T034750Z
LAST-MODIFIED:20230808T034750Z
UID:478-1691834400-1691848800@ochsoldmill.org
SUMMARY:Founder's Day
DESCRIPTION:
URL:https://ochsoldmill.org/event/founders-day/
LOCATION:Downtown Ortonville
CATEGORIES:Community Event
END:VEVENT
BEGIN:VEVENT
DTSTART;TZID=UTC:20230520T100000
DTEND;TZID=UTC:20230520T140000
DTSTAMP:20260422T194834
CREATED:20230411T191313Z
LAST-MODIFIED:20230411T191313Z
UID:257-1684576800-1684591200@ochsoldmill.org
SUMMARY:Spring Garden Show
DESCRIPTION:
URL:https://ochsoldmill.org/event/spring-garden-show/
LOCATION:MI
CATEGORIES:Community Event
END:VEVENT
END:VCALENDAR