BEGIN:VCALENDAR
VERSION:2.0
PRODID:-//OCHS Old Mill Museum - ECPv6.15.20//NONSGML v1.0//EN
CALSCALE:GREGORIAN
METHOD:PUBLISH
X-ORIGINAL-URL:https://ochsoldmill.org
X-WR-CALDESC:Events for OCHS Old Mill Museum
REFRESH-INTERVAL;VALUE=DURATION:PT1H
X-Robots-Tag:noindex
X-PUBLISHED-TTL:PT1H
BEGIN:VTIMEZONE
TZID:America/New_York
BEGIN:DAYLIGHT
TZOFFSETFROM:-0500
TZOFFSETTO:-0400
TZNAME:EDT
DTSTART:20250309T070000
END:DAYLIGHT
BEGIN:STANDARD
TZOFFSETFROM:-0400
TZOFFSETTO:-0500
TZNAME:EST
DTSTART:20251102T060000
END:STANDARD
BEGIN:DAYLIGHT
TZOFFSETFROM:-0500
TZOFFSETTO:-0400
TZNAME:EDT
DTSTART:20260308T070000
END:DAYLIGHT
BEGIN:STANDARD
TZOFFSETFROM:-0400
TZOFFSETTO:-0500
TZNAME:EST
DTSTART:20261101T060000
END:STANDARD
BEGIN:DAYLIGHT
TZOFFSETFROM:-0500
TZOFFSETTO:-0400
TZNAME:EDT
DTSTART:20270314T070000
END:DAYLIGHT
BEGIN:STANDARD
TZOFFSETFROM:-0400
TZOFFSETTO:-0500
TZNAME:EST
DTSTART:20271107T060000
END:STANDARD
END:VTIMEZONE
BEGIN:VEVENT
DTSTART;TZID=America/New_York:20260525T090000
DTEND;TZID=America/New_York:20260525T100000
DTSTAMP:20260422T181925
CREATED:20260124T174849Z
LAST-MODIFIED:20260124T174849Z
UID:2401-1779699600-1779703200@ochsoldmill.org
SUMMARY:Memorial Day Parade
DESCRIPTION:Join us at the Mill to celebrate and honor Memorial Day during the community parade.
URL:https://ochsoldmill.org/event/memorial-day-parade/
LOCATION:Old Mill Museum\, 366 Mill St.\, Ortonville\, MI\, 48462\, United States
CATEGORIES:Community Event
ORGANIZER;CN="Ortonville Community Historical Society":MAILTO:ochs.oldmill@gmail.com
END:VEVENT
BEGIN:VEVENT
DTSTART;TZID=America/New_York:20260704T100000
DTEND;TZID=America/New_York:20260704T140000
DTSTAMP:20260422T181925
CREATED:20260124T174851Z
LAST-MODIFIED:20260124T174851Z
UID:2404-1783159200-1783173600@ochsoldmill.org
SUMMARY:Museum Open / Independence Day
DESCRIPTION:Celebrate Independence Day with the museum open to visitors and activities happening around the Mill and campus.
URL:https://ochsoldmill.org/event/museum-open-independence-day/
LOCATION:Old Mill Museum\, 366 Mill St.\, Ortonville\, MI\, 48462\, United States
CATEGORIES:Community Event
ORGANIZER;CN="Ortonville Community Historical Society":MAILTO:ochs.oldmill@gmail.com
END:VEVENT
BEGIN:VEVENT
DTSTART;TZID=America/New_York:20260912T090000
DTEND;TZID=America/New_York:20260912T160000
DTSTAMP:20260422T181925
CREATED:20260124T174919Z
LAST-MODIFIED:20260124T174919Z
UID:2411-1789203600-1789228800@ochsoldmill.org
SUMMARY:Septemberfest
DESCRIPTION:A full day of community fun featuring activities\, vendors\, and celebrations at the Mill and campus.
URL:https://ochsoldmill.org/event/septemberfest/
LOCATION:Old Mill Museum\, 366 Mill St.\, Ortonville\, MI\, 48462\, United States
CATEGORIES:Community Event
ORGANIZER;CN="Ortonville Community Historical Society":MAILTO:ochs.oldmill@gmail.com
END:VEVENT
BEGIN:VEVENT
DTSTART;TZID=America/New_York:20261010T150000
DTEND;TZID=America/New_York:20261010T210000
DTSTAMP:20260422T181925
CREATED:20260124T174920Z
LAST-MODIFIED:20260124T174920Z
UID:2413-1791644400-1791666000@ochsoldmill.org
SUMMARY:Witch’s Night Out
DESCRIPTION:A festive fall evening event with themed activities and fun for the community at the Mill and campus.
URL:https://ochsoldmill.org/event/witchs-night-out/
LOCATION:Old Mill Museum\, 366 Mill St.\, Ortonville\, MI\, 48462\, United States
CATEGORIES:Community Event
ORGANIZER;CN="Ortonville Community Historical Society":MAILTO:ochs.oldmill@gmail.com
END:VEVENT
BEGIN:VEVENT
DTSTART;TZID=America/New_York:20261031T180000
DTEND;TZID=America/New_York:20261031T210000
DTSTAMP:20260422T181925
CREATED:20260124T174921Z
LAST-MODIFIED:20260124T174921Z
UID:2415-1793469600-1793480400@ochsoldmill.org
SUMMARY:Halloween
DESCRIPTION:A Halloween celebration at the Mill featuring seasonal fun and community spirit.
URL:https://ochsoldmill.org/event/halloween-3/
LOCATION:Old Mill Museum\, 366 Mill St.\, Ortonville\, MI\, 48462\, United States
CATEGORIES:Community Event
ORGANIZER;CN="Ortonville Community Historical Society":MAILTO:ochs.oldmill@gmail.com
END:VEVENT
BEGIN:VEVENT
DTSTART;TZID=America/New_York:20261204T170000
DTEND;TZID=America/New_York:20261204T200000
DTSTAMP:20260422T181925
CREATED:20260124T174936Z
LAST-MODIFIED:20260124T174936Z
UID:2419-1796403600-1796414400@ochsoldmill.org
SUMMARY:Christmas in the Village Events and Parade
DESCRIPTION:Kick off the holiday season with festive activities and the Christmas in the Village parade at the Mill and campus.
URL:https://ochsoldmill.org/event/christmas-in-the-village-events-and-parade/
LOCATION:Old Mill Museum\, 366 Mill St.\, Ortonville\, MI\, 48462\, United States
CATEGORIES:Community Event
ORGANIZER;CN="Ortonville Community Historical Society":MAILTO:ochs.oldmill@gmail.com
END:VEVENT
END:VCALENDAR