BEGIN:VCALENDAR
VERSION:2.0
PRODID:-//OCHS Old Mill Museum - ECPv6.15.20//NONSGML v1.0//EN
CALSCALE:GREGORIAN
METHOD:PUBLISH
X-ORIGINAL-URL:https://ochsoldmill.org
X-WR-CALDESC:Events for OCHS Old Mill Museum
REFRESH-INTERVAL;VALUE=DURATION:PT1H
X-Robots-Tag:noindex
X-PUBLISHED-TTL:PT1H
BEGIN:VTIMEZONE
TZID:America/New_York
BEGIN:DAYLIGHT
TZOFFSETFROM:-0500
TZOFFSETTO:-0400
TZNAME:EDT
DTSTART:20240310T070000
END:DAYLIGHT
BEGIN:STANDARD
TZOFFSETFROM:-0400
TZOFFSETTO:-0500
TZNAME:EST
DTSTART:20241103T060000
END:STANDARD
BEGIN:DAYLIGHT
TZOFFSETFROM:-0500
TZOFFSETTO:-0400
TZNAME:EDT
DTSTART:20250309T070000
END:DAYLIGHT
BEGIN:STANDARD
TZOFFSETFROM:-0400
TZOFFSETTO:-0500
TZNAME:EST
DTSTART:20251102T060000
END:STANDARD
BEGIN:DAYLIGHT
TZOFFSETFROM:-0500
TZOFFSETTO:-0400
TZNAME:EDT
DTSTART:20260308T070000
END:DAYLIGHT
BEGIN:STANDARD
TZOFFSETFROM:-0400
TZOFFSETTO:-0500
TZNAME:EST
DTSTART:20261101T060000
END:STANDARD
BEGIN:DAYLIGHT
TZOFFSETFROM:-0500
TZOFFSETTO:-0400
TZNAME:EDT
DTSTART:20270314T070000
END:DAYLIGHT
BEGIN:STANDARD
TZOFFSETFROM:-0400
TZOFFSETTO:-0500
TZNAME:EST
DTSTART:20271107T060000
END:STANDARD
END:VTIMEZONE
BEGIN:VTIMEZONE
TZID:UTC
BEGIN:STANDARD
TZOFFSETFROM:+0000
TZOFFSETTO:+0000
TZNAME:UTC
DTSTART:20220101T000000
END:STANDARD
END:VTIMEZONE
BEGIN:VTIMEZONE
TZID:America/Detroit
BEGIN:DAYLIGHT
TZOFFSETFROM:-0500
TZOFFSETTO:-0400
TZNAME:EDT
DTSTART:20230312T070000
END:DAYLIGHT
BEGIN:STANDARD
TZOFFSETFROM:-0400
TZOFFSETTO:-0500
TZNAME:EST
DTSTART:20231105T060000
END:STANDARD
BEGIN:DAYLIGHT
TZOFFSETFROM:-0500
TZOFFSETTO:-0400
TZNAME:EDT
DTSTART:20240310T070000
END:DAYLIGHT
BEGIN:STANDARD
TZOFFSETFROM:-0400
TZOFFSETTO:-0500
TZNAME:EST
DTSTART:20241103T060000
END:STANDARD
BEGIN:DAYLIGHT
TZOFFSETFROM:-0500
TZOFFSETTO:-0400
TZNAME:EDT
DTSTART:20250309T070000
END:DAYLIGHT
BEGIN:STANDARD
TZOFFSETFROM:-0400
TZOFFSETTO:-0500
TZNAME:EST
DTSTART:20251102T060000
END:STANDARD
END:VTIMEZONE
BEGIN:VEVENT
DTSTART;TZID=America/New_York:20260414T180000
DTEND;TZID=America/New_York:20260414T193000
DTSTAMP:20260425T173642
CREATED:20260124T174835Z
LAST-MODIFIED:20260124T174835Z
UID:2397-1776189600-1776195000@ochsoldmill.org
SUMMARY:General Membership Meeting
DESCRIPTION:A monthly gathering for members to hear updates\, discuss upcoming plans\, and support the Ortonville Community Historical Society.
URL:https://ochsoldmill.org/event/general-membership-meeting-23/
LOCATION:Old Mill Museum\, 366 Mill St.\, Ortonville\, MI\, 48462\, United States
CATEGORIES:Meeting
ORGANIZER;CN="Ortonville Community Historical Society":MAILTO:ochs.oldmill@gmail.com
END:VEVENT
BEGIN:VEVENT
DTSTART;TZID=America/New_York:20260331T180000
DTEND;TZID=America/New_York:20260331T193000
DTSTAMP:20260425T173642
CREATED:20260124T174821Z
LAST-MODIFIED:20260124T174821Z
UID:2395-1774980000-1774985400@ochsoldmill.org
SUMMARY:Board Meeting
DESCRIPTION:A meeting of the OCHS Board to review business\, make decisions\, and plan next steps for the organization.
URL:https://ochsoldmill.org/event/board-meeting-11/
LOCATION:Old Mill Museum\, 366 Mill St.\, Ortonville\, MI\, 48462\, United States
CATEGORIES:Meeting
ORGANIZER;CN="Ortonville Community Historical Society":MAILTO:ochs.oldmill@gmail.com
END:VEVENT
BEGIN:VEVENT
DTSTART;TZID=America/New_York:20260310T180000
DTEND;TZID=America/New_York:20260310T193000
DTSTAMP:20260425T173642
CREATED:20260124T174821Z
LAST-MODIFIED:20260124T174821Z
UID:2394-1773165600-1773171000@ochsoldmill.org
SUMMARY:General Membership Meeting
DESCRIPTION:A monthly gathering for members to hear updates\, discuss upcoming plans\, and support the Ortonville Community Historical Society.
URL:https://ochsoldmill.org/event/general-membership-meeting-22/
LOCATION:Old Mill Museum\, 366 Mill St.\, Ortonville\, MI\, 48462\, United States
CATEGORIES:Meeting
ORGANIZER;CN="Ortonville Community Historical Society":MAILTO:ochs.oldmill@gmail.com
END:VEVENT
BEGIN:VEVENT
DTSTART;TZID=America/New_York:20260210T180000
DTEND;TZID=America/New_York:20260210T193000
DTSTAMP:20260425T173643
CREATED:20260124T174820Z
LAST-MODIFIED:20260124T174820Z
UID:2393-1770746400-1770751800@ochsoldmill.org
SUMMARY:General Membership Meeting
DESCRIPTION:A monthly gathering for members to hear updates\, discuss upcoming plans\, and support the Ortonville Community Historical Society.
URL:https://ochsoldmill.org/event/general-membership-meeting-21/
LOCATION:Old Mill Museum\, 366 Mill St.\, Ortonville\, MI\, 48462\, United States
CATEGORIES:Meeting
ORGANIZER;CN="Ortonville Community Historical Society":MAILTO:ochs.oldmill@gmail.com
END:VEVENT
BEGIN:VEVENT
DTSTART;TZID=America/New_York:20251209T180000
DTEND;TZID=America/New_York:20251209T193000
DTSTAMP:20260425T173643
CREATED:20250326T191159Z
LAST-MODIFIED:20250326T191159Z
UID:2178-1765303200-1765308600@ochsoldmill.org
SUMMARY:General Membership Meeting
DESCRIPTION:
URL:https://ochsoldmill.org/event/general-membership-meeting-20/
LOCATION:Old Mill Museum\, 366 Mill St.\, Ortonville\, MI\, 48462\, United States
CATEGORIES:Meeting
ORGANIZER;CN="Ortonville Community Historical Society":MAILTO:ochs.oldmill@gmail.com
END:VEVENT
BEGIN:VEVENT
DTSTART;TZID=America/New_York:20251111T180000
DTEND;TZID=America/New_York:20251111T193000
DTSTAMP:20260425T173643
CREATED:20250326T191016Z
LAST-MODIFIED:20250326T191016Z
UID:2169-1762884000-1762889400@ochsoldmill.org
SUMMARY:General Membership Meeting
DESCRIPTION:
URL:https://ochsoldmill.org/event/general-membership-meeting-19/
LOCATION:Old Mill Museum\, 366 Mill St.\, Ortonville\, MI\, 48462\, United States
CATEGORIES:Meeting
ORGANIZER;CN="Ortonville Community Historical Society":MAILTO:ochs.oldmill@gmail.com
END:VEVENT
BEGIN:VEVENT
DTSTART;TZID=America/New_York:20251014T180000
DTEND;TZID=America/New_York:20251014T193000
DTSTAMP:20260425T173643
CREATED:20250326T191000Z
LAST-MODIFIED:20250326T191000Z
UID:2163-1760464800-1760470200@ochsoldmill.org
SUMMARY:General Membership Meeting (Elections)
DESCRIPTION:
URL:https://ochsoldmill.org/event/general-membership-meeting-elections-2/
LOCATION:Old Mill Museum\, 366 Mill St.\, Ortonville\, MI\, 48462\, United States
CATEGORIES:Meeting
ORGANIZER;CN="Ortonville Community Historical Society":MAILTO:ochs.oldmill@gmail.com
END:VEVENT
BEGIN:VEVENT
DTSTART;TZID=America/New_York:20250930T180000
DTEND;TZID=America/New_York:20250930T193000
DTSTAMP:20260425T173643
CREATED:20250326T184645Z
LAST-MODIFIED:20250326T184645Z
UID:2159-1759255200-1759260600@ochsoldmill.org
SUMMARY:Board Meeting
DESCRIPTION:
URL:https://ochsoldmill.org/event/board-meeting-9/
LOCATION:Old Mill Museum\, 366 Mill St.\, Ortonville\, MI\, 48462\, United States
CATEGORIES:Meeting
ORGANIZER;CN="Ortonville Community Historical Society":MAILTO:ochs.oldmill@gmail.com
END:VEVENT
BEGIN:VEVENT
DTSTART;TZID=America/New_York:20250909T180000
DTEND;TZID=America/New_York:20250909T193000
DTSTAMP:20260425T173643
CREATED:20250326T184444Z
LAST-MODIFIED:20250326T184444Z
UID:2154-1757440800-1757446200@ochsoldmill.org
SUMMARY:General Membership Meeting
DESCRIPTION:
URL:https://ochsoldmill.org/event/general-membership-meeting-18/
LOCATION:Old Mill Museum\, 366 Mill St.\, Ortonville\, MI\, 48462\, United States
CATEGORIES:Meeting
ORGANIZER;CN="Ortonville Community Historical Society":MAILTO:ochs.oldmill@gmail.com
END:VEVENT
BEGIN:VEVENT
DTSTART;TZID=America/New_York:20250812T180000
DTEND;TZID=America/New_York:20250812T193000
DTSTAMP:20260425T173643
CREATED:20250326T184243Z
LAST-MODIFIED:20250326T184243Z
UID:2148-1755021600-1755027000@ochsoldmill.org
SUMMARY:General Membership Meeting
DESCRIPTION:
URL:https://ochsoldmill.org/event/general-membership-meeting-17/
LOCATION:Old Mill Museum\, 366 Mill St.\, Ortonville\, MI\, 48462\, United States
CATEGORIES:Meeting
ORGANIZER;CN="Ortonville Community Historical Society":MAILTO:ochs.oldmill@gmail.com
END:VEVENT
BEGIN:VEVENT
DTSTART;TZID=America/New_York:20250729T180000
DTEND;TZID=America/New_York:20250729T193000
DTSTAMP:20260425T173643
CREATED:20250326T184043Z
LAST-MODIFIED:20250326T184043Z
UID:2145-1753812000-1753817400@ochsoldmill.org
SUMMARY:Board Meeting
DESCRIPTION:
URL:https://ochsoldmill.org/event/board-meeting-8/
LOCATION:Old Mill Museum\, 366 Mill St.\, Ortonville\, MI\, 48462\, United States
CATEGORIES:Meeting
ORGANIZER;CN="Ortonville Community Historical Society":MAILTO:ochs.oldmill@gmail.com
END:VEVENT
BEGIN:VEVENT
DTSTART;TZID=America/New_York:20250708T180000
DTEND;TZID=America/New_York:20250708T193000
DTSTAMP:20260425T173643
CREATED:20250326T183842Z
LAST-MODIFIED:20250326T183842Z
UID:2140-1751997600-1752003000@ochsoldmill.org
SUMMARY:General Membership Meeting
DESCRIPTION:
URL:https://ochsoldmill.org/event/general-membership-meeting-16/
LOCATION:Old Mill Museum\, 366 Mill St.\, Ortonville\, MI\, 48462\, United States
CATEGORIES:Meeting
ORGANIZER;CN="Ortonville Community Historical Society":MAILTO:ochs.oldmill@gmail.com
END:VEVENT
BEGIN:VEVENT
DTSTART;TZID=America/New_York:20250610T180000
DTEND;TZID=America/New_York:20250610T193000
DTSTAMP:20260425T173643
CREATED:20250326T183640Z
LAST-MODIFIED:20250326T183640Z
UID:2134-1749578400-1749583800@ochsoldmill.org
SUMMARY:General Membership Meeting
DESCRIPTION:
URL:https://ochsoldmill.org/event/general-membership-meeting-15/
LOCATION:Old Mill Museum\, 366 Mill St.\, Ortonville\, MI\, 48462\, United States
CATEGORIES:Meeting
ORGANIZER;CN="Ortonville Community Historical Society":MAILTO:ochs.oldmill@gmail.com
END:VEVENT
BEGIN:VEVENT
DTSTART;TZID=America/New_York:20250527T180000
DTEND;TZID=America/New_York:20250527T193000
DTSTAMP:20260425T173643
CREATED:20250326T183626Z
LAST-MODIFIED:20250326T183626Z
UID:2130-1748368800-1748374200@ochsoldmill.org
SUMMARY:Board Meeting
DESCRIPTION:
URL:https://ochsoldmill.org/event/board-meeting-7/
LOCATION:Old Mill Museum\, 366 Mill St.\, Ortonville\, MI\, 48462\, United States
CATEGORIES:Meeting
ORGANIZER;CN="Ortonville Community Historical Society":MAILTO:ochs.oldmill@gmail.com
END:VEVENT
BEGIN:VEVENT
DTSTART;TZID=America/New_York:20250513T180000
DTEND;TZID=America/New_York:20250513T193000
DTSTAMP:20260425T173643
CREATED:20250326T183425Z
LAST-MODIFIED:20250326T183425Z
UID:2125-1747159200-1747164600@ochsoldmill.org
SUMMARY:General Membership Meeting
DESCRIPTION:
URL:https://ochsoldmill.org/event/general-membership-meeting-14/
LOCATION:Old Mill Museum\, 366 Mill St.\, Ortonville\, MI\, 48462\, United States
CATEGORIES:Meeting
ORGANIZER;CN="Ortonville Community Historical Society":MAILTO:ochs.oldmill@gmail.com
END:VEVENT
BEGIN:VEVENT
DTSTART;TZID=America/New_York:20250408T180000
DTEND;TZID=America/New_York:20250408T193000
DTSTAMP:20260425T173643
CREATED:20250326T183024Z
LAST-MODIFIED:20250326T183024Z
UID:2116-1744135200-1744140600@ochsoldmill.org
SUMMARY:General Membership Meeting
DESCRIPTION:
URL:https://ochsoldmill.org/event/general-membership-meeting-13/
LOCATION:Old Mill Museum\, 366 Mill St.\, Ortonville\, MI\, 48462\, United States
CATEGORIES:Meeting
ORGANIZER;CN="Ortonville Community Historical Society":MAILTO:ochs.oldmill@gmail.com
END:VEVENT
BEGIN:VEVENT
DTSTART;TZID=America/New_York:20250318T180000
DTEND;TZID=America/New_York:20250318T193000
DTSTAMP:20260425T173643
CREATED:20250326T183004Z
LAST-MODIFIED:20250326T195423Z
UID:2109-1742320800-1742326200@ochsoldmill.org
SUMMARY:General Membership Meeting
DESCRIPTION:
URL:https://ochsoldmill.org/event/general-membership-meeting-12/
LOCATION:Old Mill Museum\, 366 Mill St.\, Ortonville\, MI\, 48462\, United States
CATEGORIES:Meeting
ORGANIZER;CN="Ortonville Community Historical Society":MAILTO:ochs.oldmill@gmail.com
END:VEVENT
BEGIN:VEVENT
DTSTART;TZID=America/New_York:20250211T180000
DTEND;TZID=America/New_York:20250211T193000
DTSTAMP:20260425T173643
CREATED:20250326T182957Z
LAST-MODIFIED:20250326T182957Z
UID:2103-1739296800-1739302200@ochsoldmill.org
SUMMARY:General Membership Meeting
DESCRIPTION:
URL:https://ochsoldmill.org/event/general-membership-meeting-11/
LOCATION:Old Mill Museum\, 366 Mill St.\, Ortonville\, MI\, 48462\, United States
CATEGORIES:Meeting
ORGANIZER;CN="Ortonville Community Historical Society":MAILTO:ochs.oldmill@gmail.com
END:VEVENT
BEGIN:VEVENT
DTSTART;TZID=UTC:20241112T180000
DTEND;TZID=UTC:20241112T193000
DTSTAMP:20260425T173643
CREATED:20240328T055815Z
LAST-MODIFIED:20240328T055815Z
UID:1336-1731434400-1731439800@ochsoldmill.org
SUMMARY:OCHS Membership Meeting - November
DESCRIPTION:Monthly Meeting of the Ortonville Community Historical Society.
URL:https://ochsoldmill.org/event/ochs-membership-meeting-november-2/
LOCATION:Old Mill Museum\, 366 Mill St.\, Ortonville\, MI\, 48462\, United States
CATEGORIES:Meeting
ATTACH;FMTTYPE=image/jpeg:https://ochsoldmill.org/wp-content/uploads/2022/09/20220319_102618-scaled.jpg
ORGANIZER;CN="Ortonville Community Historical Society":MAILTO:ochs.oldmill@gmail.com
END:VEVENT
BEGIN:VEVENT
DTSTART;TZID=UTC:20241008T180000
DTEND;TZID=UTC:20241008T193000
DTSTAMP:20260425T173643
CREATED:20240328T055745Z
LAST-MODIFIED:20240328T055745Z
UID:1334-1728410400-1728415800@ochsoldmill.org
SUMMARY:OCHS Membership Meeting - October
DESCRIPTION:Monthly Meeting of the Ortonville Community Historical Society.
URL:https://ochsoldmill.org/event/ochs-membership-meeting-october-2/
LOCATION:Old Mill Museum\, 366 Mill St.\, Ortonville\, MI\, 48462\, United States
CATEGORIES:Meeting
ATTACH;FMTTYPE=image/jpeg:https://ochsoldmill.org/wp-content/uploads/2022/09/20220319_102618-scaled.jpg
ORGANIZER;CN="Ortonville Community Historical Society":MAILTO:ochs.oldmill@gmail.com
END:VEVENT
BEGIN:VEVENT
DTSTART;TZID=UTC:20240910T180000
DTEND;TZID=UTC:20240910T193000
DTSTAMP:20260425T173643
CREATED:20240328T055653Z
LAST-MODIFIED:20240328T055653Z
UID:1332-1725991200-1725996600@ochsoldmill.org
SUMMARY:OCHS Membership Meeting - September
DESCRIPTION:Monthly Meeting of the Ortonville Community Historical Society.
URL:https://ochsoldmill.org/event/ochs-membership-meeting-september-2/
LOCATION:Old Mill Museum\, 366 Mill St.\, Ortonville\, MI\, 48462\, United States
CATEGORIES:Meeting
ATTACH;FMTTYPE=image/jpeg:https://ochsoldmill.org/wp-content/uploads/2022/09/20220319_102618-scaled.jpg
ORGANIZER;CN="Ortonville Community Historical Society":MAILTO:ochs.oldmill@gmail.com
END:VEVENT
BEGIN:VEVENT
DTSTART;TZID=UTC:20240813T170000
DTEND;TZID=UTC:20240813T183000
DTSTAMP:20260425T173643
CREATED:20240328T055629Z
LAST-MODIFIED:20240726T145003Z
UID:1330-1723568400-1723573800@ochsoldmill.org
SUMMARY:Annual OCHS Members Picnic
DESCRIPTION:Annual OCHS Members Picnic \nWhen: August 13\, Tuesday @ 5:00 pm\nWhere: Weather permitting\, under the tent outside of the museum OR inside the main room in the museum\nFood: Pizza\, coffee\, and water will be provided for everyone\, but feel free to bring any additional items\, especially dessert!!\nWho: OCHS members\, their families\, and friends.\nWhat: A brief business meeting will follow the meal.
URL:https://ochsoldmill.org/event/ochs-membership-meeting-august-2/
LOCATION:Old Mill Museum\, 366 Mill St.\, Ortonville\, MI\, 48462\, United States
CATEGORIES:Meeting
ATTACH;FMTTYPE=image/png:https://ochsoldmill.org/wp-content/uploads/2024/03/OCHS-2024-Member-Picnic.png
ORGANIZER;CN="Ortonville Community Historical Society":MAILTO:ochs.oldmill@gmail.com
END:VEVENT
BEGIN:VEVENT
DTSTART;TZID=America/Detroit:20240709T180000
DTEND;TZID=America/Detroit:20240709T193000
DTSTAMP:20260425T173643
CREATED:20240328T055610Z
LAST-MODIFIED:20240703T232135Z
UID:1328-1720548000-1720553400@ochsoldmill.org
SUMMARY:OCHS Membership Meeting - July
DESCRIPTION:Monthly Meeting of the Ortonville Community Historical Society.
URL:https://ochsoldmill.org/event/ochs-membership-meeting-july-2/
LOCATION:Old Mill Museum\, 366 Mill St.\, Ortonville\, MI\, 48462\, United States
CATEGORIES:Meeting
ATTACH;FMTTYPE=image/jpeg:https://ochsoldmill.org/wp-content/uploads/2022/09/20220319_102618-scaled.jpg
ORGANIZER;CN="Ortonville Community Historical Society":MAILTO:ochs.oldmill@gmail.com
END:VEVENT
BEGIN:VEVENT
DTSTART;TZID=UTC:20240611T180000
DTEND;TZID=UTC:20240611T193000
DTSTAMP:20260425T173643
CREATED:20240328T055543Z
LAST-MODIFIED:20240328T055543Z
UID:1326-1718128800-1718134200@ochsoldmill.org
SUMMARY:OCHS Membership Meeting - June
DESCRIPTION:Monthly Meeting of the Ortonville Community Historical Society.
URL:https://ochsoldmill.org/event/ochs-membership-meeting-june-2/
LOCATION:Old Mill Museum\, 366 Mill St.\, Ortonville\, MI\, 48462\, United States
CATEGORIES:Meeting
ATTACH;FMTTYPE=image/jpeg:https://ochsoldmill.org/wp-content/uploads/2022/09/20220319_102618-scaled.jpg
ORGANIZER;CN="Ortonville Community Historical Society":MAILTO:ochs.oldmill@gmail.com
END:VEVENT
BEGIN:VEVENT
DTSTART;TZID=UTC:20240514T180000
DTEND;TZID=UTC:20240514T193000
DTSTAMP:20260425T173643
CREATED:20240328T055506Z
LAST-MODIFIED:20240328T055506Z
UID:1324-1715709600-1715715000@ochsoldmill.org
SUMMARY:OCHS Membership Meeting - May
DESCRIPTION:Monthly Meeting of the Ortonville Community Historical Society.
URL:https://ochsoldmill.org/event/ochs-membership-meeting-may/
LOCATION:Old Mill Museum\, 366 Mill St.\, Ortonville\, MI\, 48462\, United States
CATEGORIES:Meeting
ATTACH;FMTTYPE=image/jpeg:https://ochsoldmill.org/wp-content/uploads/2022/09/20220319_102618-scaled.jpg
ORGANIZER;CN="Ortonville Community Historical Society":MAILTO:ochs.oldmill@gmail.com
END:VEVENT
BEGIN:VEVENT
DTSTART;TZID=UTC:20240409T180000
DTEND;TZID=UTC:20240409T193000
DTSTAMP:20260425T173643
CREATED:20240328T053621Z
LAST-MODIFIED:20240328T053621Z
UID:1322-1712685600-1712691000@ochsoldmill.org
SUMMARY:OCHS Membership Meeting - April
DESCRIPTION:Monthly Meeting of the Ortonville Community Historical Society.
URL:https://ochsoldmill.org/event/ochs-membership-meeting-april-2/
LOCATION:Old Mill Museum\, 366 Mill St.\, Ortonville\, MI\, 48462\, United States
CATEGORIES:Meeting
ATTACH;FMTTYPE=image/jpeg:https://ochsoldmill.org/wp-content/uploads/2022/09/20220319_102618-scaled.jpg
ORGANIZER;CN="Ortonville Community Historical Society":MAILTO:ochs.oldmill@gmail.com
END:VEVENT
BEGIN:VEVENT
DTSTART;TZID=UTC:20231212T180000
DTEND;TZID=UTC:20231212T193000
DTSTAMP:20260425T173643
CREATED:20230411T191127Z
LAST-MODIFIED:20230411T191127Z
UID:255-1702404000-1702409400@ochsoldmill.org
SUMMARY:OCHS Membership Meeting - December
DESCRIPTION:Monthly Meeting of the Ortonville Community Historical Society.
URL:https://ochsoldmill.org/event/ochs-membership-meeting-december/
LOCATION:Old Mill Museum\, 366 Mill St.\, Ortonville\, MI\, 48462\, United States
CATEGORIES:Meeting
ATTACH;FMTTYPE=image/jpeg:https://ochsoldmill.org/wp-content/uploads/2022/09/20220319_102618-scaled.jpg
ORGANIZER;CN="Ortonville Community Historical Society":MAILTO:ochs.oldmill@gmail.com
END:VEVENT
BEGIN:VEVENT
DTSTART;TZID=UTC:20231114T180000
DTEND;TZID=UTC:20231114T193000
DTSTAMP:20260425T173643
CREATED:20230411T191040Z
LAST-MODIFIED:20230411T191040Z
UID:253-1699984800-1699990200@ochsoldmill.org
SUMMARY:OCHS Membership Meeting - November
DESCRIPTION:Monthly Meeting of the Ortonville Community Historical Society.
URL:https://ochsoldmill.org/event/ochs-membership-meeting-november/
LOCATION:Old Mill Museum\, 366 Mill St.\, Ortonville\, MI\, 48462\, United States
CATEGORIES:Meeting
ATTACH;FMTTYPE=image/jpeg:https://ochsoldmill.org/wp-content/uploads/2022/09/20220319_102618-scaled.jpg
ORGANIZER;CN="Ortonville Community Historical Society":MAILTO:ochs.oldmill@gmail.com
END:VEVENT
BEGIN:VEVENT
DTSTART;TZID=UTC:20231010T180000
DTEND;TZID=UTC:20231010T193000
DTSTAMP:20260425T173643
CREATED:20230411T151019Z
LAST-MODIFIED:20231010T173906Z
UID:251-1696960800-1696966200@ochsoldmill.org
SUMMARY:CANCELLED - OCHS Membership Meeting - October
DESCRIPTION:This meeting has been canceled because the furnace at the Old Mill is not working. Monthly Meeting of the Ortonville Community Historical Society.
URL:https://ochsoldmill.org/event/ochs-membership-meeting-october/
LOCATION:Old Mill Museum\, 366 Mill St.\, Ortonville\, MI\, 48462\, United States
CATEGORIES:Meeting
ATTACH;FMTTYPE=image/jpeg:https://ochsoldmill.org/wp-content/uploads/2022/09/20220319_102618-scaled.jpg
ORGANIZER;CN="Ortonville Community Historical Society":MAILTO:ochs.oldmill@gmail.com
END:VEVENT
BEGIN:VEVENT
DTSTART;TZID=UTC:20230912T180000
DTEND;TZID=UTC:20230912T193000
DTSTAMP:20260425T173643
CREATED:20230411T190810Z
LAST-MODIFIED:20230411T190810Z
UID:249-1694541600-1694547000@ochsoldmill.org
SUMMARY:OCHS Membership Meeting - September
DESCRIPTION:Monthly Meeting of the Ortonville Community Historical Society.
URL:https://ochsoldmill.org/event/ochs-membership-meeting-september/
LOCATION:Old Mill Museum\, 366 Mill St.\, Ortonville\, MI\, 48462\, United States
CATEGORIES:Meeting
ATTACH;FMTTYPE=image/jpeg:https://ochsoldmill.org/wp-content/uploads/2022/09/20220319_102618-scaled.jpg
ORGANIZER;CN="Ortonville Community Historical Society":MAILTO:ochs.oldmill@gmail.com
END:VEVENT
END:VCALENDAR