BEGIN:VCALENDAR
VERSION:2.0
PRODID:-//OCHS Old Mill Museum - ECPv6.15.20//NONSGML v1.0//EN
CALSCALE:GREGORIAN
METHOD:PUBLISH
X-ORIGINAL-URL:https://ochsoldmill.org
X-WR-CALDESC:Events for OCHS Old Mill Museum
REFRESH-INTERVAL;VALUE=DURATION:PT1H
X-Robots-Tag:noindex
X-PUBLISHED-TTL:PT1H
BEGIN:VTIMEZONE
TZID:UTC
BEGIN:STANDARD
TZOFFSETFROM:+0000
TZOFFSETTO:+0000
TZNAME:UTC
DTSTART:20220101T000000
END:STANDARD
END:VTIMEZONE
BEGIN:VEVENT
DTSTART;TZID=UTC:20240514T180000
DTEND;TZID=UTC:20240514T193000
DTSTAMP:20260425T202009
CREATED:20240328T055506Z
LAST-MODIFIED:20240328T055506Z
UID:1324-1715709600-1715715000@ochsoldmill.org
SUMMARY:OCHS Membership Meeting - May
DESCRIPTION:Monthly Meeting of the Ortonville Community Historical Society.
URL:https://ochsoldmill.org/event/ochs-membership-meeting-may/
LOCATION:Old Mill Museum\, 366 Mill St.\, Ortonville\, MI\, 48462\, United States
CATEGORIES:Meeting
ATTACH;FMTTYPE=image/jpeg:https://ochsoldmill.org/wp-content/uploads/2022/09/20220319_102618-scaled.jpg
ORGANIZER;CN="Ortonville Community Historical Society":MAILTO:ochs.oldmill@gmail.com
END:VEVENT
BEGIN:VEVENT
DTSTART;TZID=UTC:20240409T180000
DTEND;TZID=UTC:20240409T193000
DTSTAMP:20260425T202009
CREATED:20240328T053621Z
LAST-MODIFIED:20240328T053621Z
UID:1322-1712685600-1712691000@ochsoldmill.org
SUMMARY:OCHS Membership Meeting - April
DESCRIPTION:Monthly Meeting of the Ortonville Community Historical Society.
URL:https://ochsoldmill.org/event/ochs-membership-meeting-april-2/
LOCATION:Old Mill Museum\, 366 Mill St.\, Ortonville\, MI\, 48462\, United States
CATEGORIES:Meeting
ATTACH;FMTTYPE=image/jpeg:https://ochsoldmill.org/wp-content/uploads/2022/09/20220319_102618-scaled.jpg
ORGANIZER;CN="Ortonville Community Historical Society":MAILTO:ochs.oldmill@gmail.com
END:VEVENT
BEGIN:VEVENT
DTSTART;TZID=UTC:20231212T180000
DTEND;TZID=UTC:20231212T193000
DTSTAMP:20260425T202009
CREATED:20230411T191127Z
LAST-MODIFIED:20230411T191127Z
UID:255-1702404000-1702409400@ochsoldmill.org
SUMMARY:OCHS Membership Meeting - December
DESCRIPTION:Monthly Meeting of the Ortonville Community Historical Society.
URL:https://ochsoldmill.org/event/ochs-membership-meeting-december/
LOCATION:Old Mill Museum\, 366 Mill St.\, Ortonville\, MI\, 48462\, United States
CATEGORIES:Meeting
ATTACH;FMTTYPE=image/jpeg:https://ochsoldmill.org/wp-content/uploads/2022/09/20220319_102618-scaled.jpg
ORGANIZER;CN="Ortonville Community Historical Society":MAILTO:ochs.oldmill@gmail.com
END:VEVENT
BEGIN:VEVENT
DTSTART;TZID=UTC:20231114T180000
DTEND;TZID=UTC:20231114T193000
DTSTAMP:20260425T202009
CREATED:20230411T191040Z
LAST-MODIFIED:20230411T191040Z
UID:253-1699984800-1699990200@ochsoldmill.org
SUMMARY:OCHS Membership Meeting - November
DESCRIPTION:Monthly Meeting of the Ortonville Community Historical Society.
URL:https://ochsoldmill.org/event/ochs-membership-meeting-november/
LOCATION:Old Mill Museum\, 366 Mill St.\, Ortonville\, MI\, 48462\, United States
CATEGORIES:Meeting
ATTACH;FMTTYPE=image/jpeg:https://ochsoldmill.org/wp-content/uploads/2022/09/20220319_102618-scaled.jpg
ORGANIZER;CN="Ortonville Community Historical Society":MAILTO:ochs.oldmill@gmail.com
END:VEVENT
BEGIN:VEVENT
DTSTART;TZID=UTC:20231010T180000
DTEND;TZID=UTC:20231010T193000
DTSTAMP:20260425T202009
CREATED:20230411T151019Z
LAST-MODIFIED:20231010T173906Z
UID:251-1696960800-1696966200@ochsoldmill.org
SUMMARY:CANCELLED - OCHS Membership Meeting - October
DESCRIPTION:This meeting has been canceled because the furnace at the Old Mill is not working. Monthly Meeting of the Ortonville Community Historical Society.
URL:https://ochsoldmill.org/event/ochs-membership-meeting-october/
LOCATION:Old Mill Museum\, 366 Mill St.\, Ortonville\, MI\, 48462\, United States
CATEGORIES:Meeting
ATTACH;FMTTYPE=image/jpeg:https://ochsoldmill.org/wp-content/uploads/2022/09/20220319_102618-scaled.jpg
ORGANIZER;CN="Ortonville Community Historical Society":MAILTO:ochs.oldmill@gmail.com
END:VEVENT
BEGIN:VEVENT
DTSTART;TZID=UTC:20230912T180000
DTEND;TZID=UTC:20230912T193000
DTSTAMP:20260425T202009
CREATED:20230411T190810Z
LAST-MODIFIED:20230411T190810Z
UID:249-1694541600-1694547000@ochsoldmill.org
SUMMARY:OCHS Membership Meeting - September
DESCRIPTION:Monthly Meeting of the Ortonville Community Historical Society.
URL:https://ochsoldmill.org/event/ochs-membership-meeting-september/
LOCATION:Old Mill Museum\, 366 Mill St.\, Ortonville\, MI\, 48462\, United States
CATEGORIES:Meeting
ATTACH;FMTTYPE=image/jpeg:https://ochsoldmill.org/wp-content/uploads/2022/09/20220319_102618-scaled.jpg
ORGANIZER;CN="Ortonville Community Historical Society":MAILTO:ochs.oldmill@gmail.com
END:VEVENT
BEGIN:VEVENT
DTSTART;TZID=UTC:20230808T180000
DTEND;TZID=UTC:20230808T193000
DTSTAMP:20260425T202009
CREATED:20230411T190732Z
LAST-MODIFIED:20230808T034412Z
UID:247-1691517600-1691523000@ochsoldmill.org
SUMMARY:OCHS Membership Meeting - August
DESCRIPTION:Monthly Meeting of the Ortonville Community Historical Society.
URL:https://ochsoldmill.org/event/ochs-membership-meeting-august/
LOCATION:Old Mill Museum\, 366 Mill St.\, Ortonville\, MI\, 48462\, United States
CATEGORIES:Meeting
ATTACH;FMTTYPE=image/jpeg:https://ochsoldmill.org/wp-content/uploads/2022/09/20220319_102618-scaled.jpg
ORGANIZER;CN="Ortonville Community Historical Society":MAILTO:ochs.oldmill@gmail.com
END:VEVENT
BEGIN:VEVENT
DTSTART;TZID=UTC:20230711T180000
DTEND;TZID=UTC:20230711T193000
DTSTAMP:20260425T202009
CREATED:20230411T190703Z
LAST-MODIFIED:20230411T190703Z
UID:245-1689098400-1689103800@ochsoldmill.org
SUMMARY:OCHS Membership Meeting - July
DESCRIPTION:Monthly Meeting of the Ortonville Community Historical Society.
URL:https://ochsoldmill.org/event/ochs-membership-meeting-july/
LOCATION:Old Mill Museum\, 366 Mill St.\, Ortonville\, MI\, 48462\, United States
CATEGORIES:Meeting
ATTACH;FMTTYPE=image/jpeg:https://ochsoldmill.org/wp-content/uploads/2022/09/20220319_102618-scaled.jpg
ORGANIZER;CN="Ortonville Community Historical Society":MAILTO:ochs.oldmill@gmail.com
END:VEVENT
BEGIN:VEVENT
DTSTART;TZID=UTC:20230613T180000
DTEND;TZID=UTC:20230613T193000
DTSTAMP:20260425T202009
CREATED:20230411T190607Z
LAST-MODIFIED:20230411T190607Z
UID:243-1686679200-1686684600@ochsoldmill.org
SUMMARY:OCHS Membership Meeting - June
DESCRIPTION:Monthly Meeting of the Ortonville Community Historical Society.
URL:https://ochsoldmill.org/event/ochs-membership-meeting-june/
LOCATION:Old Mill Museum\, 366 Mill St.\, Ortonville\, MI\, 48462\, United States
CATEGORIES:Meeting
ATTACH;FMTTYPE=image/jpeg:https://ochsoldmill.org/wp-content/uploads/2022/09/20220319_102618-scaled.jpg
ORGANIZER;CN="Ortonville Community Historical Society":MAILTO:ochs.oldmill@gmail.com
END:VEVENT
BEGIN:VEVENT
DTSTART;TZID=UTC:20230509T180000
DTEND;TZID=UTC:20230509T193000
DTSTAMP:20260425T202009
CREATED:20230411T182350Z
LAST-MODIFIED:20230411T190540Z
UID:237-1683655200-1683660600@ochsoldmill.org
SUMMARY:OCHS Membership Meeting - May
DESCRIPTION:Monthly Meeting of the Ortonville Community Historical Society.
URL:https://ochsoldmill.org/event/ochs-membership-meeting/
LOCATION:Old Mill Museum\, 366 Mill St.\, Ortonville\, MI\, 48462\, United States
CATEGORIES:Meeting
ATTACH;FMTTYPE=image/jpeg:https://ochsoldmill.org/wp-content/uploads/2022/09/20220319_102618-scaled.jpg
ORGANIZER;CN="Ortonville Community Historical Society":MAILTO:ochs.oldmill@gmail.com
END:VEVENT
BEGIN:VEVENT
DTSTART;TZID=UTC:20230411T180000
DTEND;TZID=UTC:20230411T193000
DTSTAMP:20260425T202009
CREATED:20230411T213244Z
LAST-MODIFIED:20230411T213244Z
UID:332-1681236000-1681241400@ochsoldmill.org
SUMMARY:OCHS Membership Meeting - April
DESCRIPTION:Monthly Meeting of the Ortonville Community Historical Society.
URL:https://ochsoldmill.org/event/ochs-membership-meeting-april/
LOCATION:Old Mill Museum\, 366 Mill St.\, Ortonville\, MI\, 48462\, United States
CATEGORIES:Meeting
ATTACH;FMTTYPE=image/jpeg:https://ochsoldmill.org/wp-content/uploads/2022/09/20220319_102618-scaled.jpg
ORGANIZER;CN="Ortonville Community Historical Society":MAILTO:ochs.oldmill@gmail.com
END:VEVENT
END:VCALENDAR