BEGIN:VCALENDAR
VERSION:2.0
PRODID:-//OCHS Old Mill Museum - ECPv6.15.20//NONSGML v1.0//EN
CALSCALE:GREGORIAN
METHOD:PUBLISH
X-ORIGINAL-URL:https://ochsoldmill.org
X-WR-CALDESC:Events for OCHS Old Mill Museum
REFRESH-INTERVAL;VALUE=DURATION:PT1H
X-Robots-Tag:noindex
X-PUBLISHED-TTL:PT1H
BEGIN:VTIMEZONE
TZID:America/Detroit
BEGIN:DAYLIGHT
TZOFFSETFROM:-0500
TZOFFSETTO:-0400
TZNAME:EDT
DTSTART:20240310T070000
END:DAYLIGHT
BEGIN:STANDARD
TZOFFSETFROM:-0400
TZOFFSETTO:-0500
TZNAME:EST
DTSTART:20241103T060000
END:STANDARD
BEGIN:DAYLIGHT
TZOFFSETFROM:-0500
TZOFFSETTO:-0400
TZNAME:EDT
DTSTART:20250309T070000
END:DAYLIGHT
BEGIN:STANDARD
TZOFFSETFROM:-0400
TZOFFSETTO:-0500
TZNAME:EST
DTSTART:20251102T060000
END:STANDARD
BEGIN:DAYLIGHT
TZOFFSETFROM:-0500
TZOFFSETTO:-0400
TZNAME:EDT
DTSTART:20260308T070000
END:DAYLIGHT
BEGIN:STANDARD
TZOFFSETFROM:-0400
TZOFFSETTO:-0500
TZNAME:EST
DTSTART:20261101T060000
END:STANDARD
END:VTIMEZONE
BEGIN:VEVENT
DTSTART;TZID=America/Detroit:20250114T170000
DTEND;TZID=America/Detroit:20250114T190000
DTSTAMP:20260423T104320
CREATED:20241205T132757Z
LAST-MODIFIED:20241205T132758Z
UID:1850-1736874000-1736881200@ochsoldmill.org
SUMMARY:Annual Winter Banquet
DESCRIPTION:Ortonville Community Historical Society invites OCHS members to the Annual Winter Banquet.  \nDinner buffet courtesy of OCHS \nFellowship with members\, new and old\, and 2024 Year in Review \nAll members and a guest are welcome! \nBring a dessert if you wish to contribute. \nRSVP to tina48462@yahoo.com or text 248-627-8290
URL:https://ochsoldmill.org/event/annual-winter-banquet/
LOCATION:Brandon Township Public Library\, 304 SOUTH ST\, ORTONVILLE\, MI\, 48462\, United States
CATEGORIES:OCHS Event
ATTACH;FMTTYPE=image/png:https://ochsoldmill.org/wp-content/uploads/2024/12/Winter-Banquet-Invite.png
ORGANIZER;CN="Ortonville Community Historical Society":MAILTO:ochs.oldmill@gmail.com
END:VEVENT
END:VCALENDAR