BEGIN:VCALENDAR
VERSION:2.0
PRODID:-//OCHS Old Mill Museum - ECPv6.15.20//NONSGML v1.0//EN
CALSCALE:GREGORIAN
METHOD:PUBLISH
X-ORIGINAL-URL:https://ochsoldmill.org
X-WR-CALDESC:Events for OCHS Old Mill Museum
REFRESH-INTERVAL;VALUE=DURATION:PT1H
X-Robots-Tag:noindex
X-PUBLISHED-TTL:PT1H
BEGIN:VTIMEZONE
TZID:America/New_York
BEGIN:DAYLIGHT
TZOFFSETFROM:-0500
TZOFFSETTO:-0400
TZNAME:EDT
DTSTART:20240310T070000
END:DAYLIGHT
BEGIN:STANDARD
TZOFFSETFROM:-0400
TZOFFSETTO:-0500
TZNAME:EST
DTSTART:20241103T060000
END:STANDARD
BEGIN:DAYLIGHT
TZOFFSETFROM:-0500
TZOFFSETTO:-0400
TZNAME:EDT
DTSTART:20250309T070000
END:DAYLIGHT
BEGIN:STANDARD
TZOFFSETFROM:-0400
TZOFFSETTO:-0500
TZNAME:EST
DTSTART:20251102T060000
END:STANDARD
BEGIN:DAYLIGHT
TZOFFSETFROM:-0500
TZOFFSETTO:-0400
TZNAME:EDT
DTSTART:20260308T070000
END:DAYLIGHT
BEGIN:STANDARD
TZOFFSETFROM:-0400
TZOFFSETTO:-0500
TZNAME:EST
DTSTART:20261101T060000
END:STANDARD
END:VTIMEZONE
BEGIN:VEVENT
DTSTART;TZID=America/New_York:20250802T100000
DTEND;TZID=America/New_York:20250802T140000
DTSTAMP:20260423T012423
CREATED:20250326T184044Z
LAST-MODIFIED:20250326T184044Z
UID:2146-1754128800-1754143200@ochsoldmill.org
SUMMARY:Museum Open
DESCRIPTION:
URL:https://ochsoldmill.org/event/museum-open-58/
LOCATION:Old Mill Museum\, 366 Mill St.\, Ortonville\, MI\, 48462\, United States
ORGANIZER;CN="Ortonville Community Historical Society":MAILTO:ochs.oldmill@gmail.com
END:VEVENT
BEGIN:VEVENT
DTSTART;TZID=America/New_York:20250809T100000
DTEND;TZID=America/New_York:20250809T140000
DTSTAMP:20260423T012423
CREATED:20250326T184044Z
LAST-MODIFIED:20250326T184044Z
UID:2147-1754733600-1754748000@ochsoldmill.org
SUMMARY:Museum Open - Farmer's Market Theme = National Farmer's Market Week; Corn Roast
DESCRIPTION:
URL:https://ochsoldmill.org/event/museum-open-farmers-market-theme-national-farmers-market-week-corn-roast-2/
LOCATION:Old Mill Museum\, 366 Mill St.\, Ortonville\, MI\, 48462\, United States
ORGANIZER;CN="Ortonville Community Historical Society":MAILTO:ochs.oldmill@gmail.com
END:VEVENT
BEGIN:VEVENT
DTSTART;TZID=America/New_York:20250812T180000
DTEND;TZID=America/New_York:20250812T193000
DTSTAMP:20260423T012423
CREATED:20250326T184243Z
LAST-MODIFIED:20250326T184243Z
UID:2148-1755021600-1755027000@ochsoldmill.org
SUMMARY:General Membership Meeting
DESCRIPTION:
URL:https://ochsoldmill.org/event/general-membership-meeting-17/
LOCATION:Old Mill Museum\, 366 Mill St.\, Ortonville\, MI\, 48462\, United States
CATEGORIES:Meeting
ORGANIZER;CN="Ortonville Community Historical Society":MAILTO:ochs.oldmill@gmail.com
END:VEVENT
BEGIN:VEVENT
DTSTART;TZID=America/New_York:20250816T100000
DTEND;TZID=America/New_York:20250816T140000
DTSTAMP:20260423T012423
CREATED:20250326T184243Z
LAST-MODIFIED:20250326T184243Z
UID:2149-1755338400-1755352800@ochsoldmill.org
SUMMARY:Museum Open
DESCRIPTION:
URL:https://ochsoldmill.org/event/museum-open-59/
LOCATION:Old Mill Museum\, 366 Mill St.\, Ortonville\, MI\, 48462\, United States
ORGANIZER;CN="Ortonville Community Historical Society":MAILTO:ochs.oldmill@gmail.com
END:VEVENT
BEGIN:VEVENT
DTSTART;TZID=America/New_York:20250823T100000
DTEND;TZID=America/New_York:20250823T140000
DTSTAMP:20260423T012423
CREATED:20250326T184244Z
LAST-MODIFIED:20250326T184244Z
UID:2150-1755943200-1755957600@ochsoldmill.org
SUMMARY:Museum Open
DESCRIPTION:
URL:https://ochsoldmill.org/event/museum-open-60/
LOCATION:Old Mill Museum\, 366 Mill St.\, Ortonville\, MI\, 48462\, United States
ORGANIZER;CN="Ortonville Community Historical Society":MAILTO:ochs.oldmill@gmail.com
END:VEVENT
BEGIN:VEVENT
DTSTART;TZID=America/New_York:20250830T100000
DTEND;TZID=America/New_York:20250830T140000
DTSTAMP:20260423T012423
CREATED:20250326T184245Z
LAST-MODIFIED:20250326T184245Z
UID:2151-1756548000-1756562400@ochsoldmill.org
SUMMARY:Museum Open (Labor Day Weekend)
DESCRIPTION:
URL:https://ochsoldmill.org/event/museum-open-labor-day-weekend-2/
LOCATION:Old Mill Museum\, 366 Mill St.\, Ortonville\, MI\, 48462\, United States
ORGANIZER;CN="Ortonville Community Historical Society":MAILTO:ochs.oldmill@gmail.com
END:VEVENT
END:VCALENDAR